BEGIN:VCALENDAR
METHOD:PUBLISH
VERSION:2.0
CALSCALE:GREGORIAN
PRODID:-//NONSGML WPForms//NONSGML Sugar Calendar Feeds v3.10.0//EN
X-WR-CALNAME:Winter Solstice Celebration
X-WR-CALDESC:JilaniCordelia.com
X-WR-TIMEZONE:UTC
BEGIN:VTIMEZONE
TZID:UTC
BEGIN:STANDARD
TZOFFSETFROM:+0000
TZOFFSETTO:+0000
DTSTART:20250621T050000
TZNAME:UTC
END:STANDARD
END:VTIMEZONE
BEGIN:VTIMEZONE
TZID:UTC
BEGIN:STANDARD
TZOFFSETFROM:+0000
TZOFFSETTO:+0000
DTSTART:20250621T050000
TZNAME:UTC
END:STANDARD
END:VTIMEZONE
BEGIN:VEVENT
SUMMARY:Winter Solstice Celebration
DESCRIPTION:Jilani and Salik invite you to join us for our heart-warming
  celebration of the returning of the Light\, at the Celtic festival of t
 he Winter Solstice. Come together with like-minded friends in the beauti
 ful\, welcoming space of Om Yoga Works\, from 5-8 pm to include time for
  a Solstice Feast. (Please bring a contribution of something delicious t
 o share!)\n\nUsing chant and movement\, ritual and feasting\, we invite 
 you to open your hearts to the light and to each other.\n\nThe Winter So
 lstice can be a time to look back and reflect\, but also to look ahead\,
  to dream into the coming year\, and to rejoice in the light returning. 
 We will feel into and explore the nourishment and regeneration of this t
 ime of fertile darkness\, and we will rejoice in the rebirth and returni
 ng of the light. We will work with simple sacred chants and movements\, 
 beautiful live music\, powerful breath practices\, and sharing\; and the
  power of ritual and ceremony. We offer the opportunity to meet one othe
 r\, fully embodied\, in the heart-space of deep meditation and devotion.
 \n\nEverything will be clearly guided and held. All are welcome\, whethe
 r you are new friends or old.\n\n5-8 pm on Saturday 20 December 2025\n\n
 £25 (£22 if booked and paid by 30 November)
URL;VALUE=URI:https://www.jilanicordelia.com/events/winter-solstice-cele
 bration/
UID:urn:uuid:86d286e7-8e47-4160-9c98-dac32df3f1b3
STATUS:CONFIRMED
ORGANIZER:
DTSTAMP:20260421T081214Z
DTSTART;TZID=UTC:20251220T170000
DTEND;TZID=UTC:20251220T200000
LOCATION:Springfield Commercial Centre Unit 15D (1st Floor)
END:VEVENT
END:VCALENDAR